BEGIN:VCALENDAR
VERSION:2.0
PRODID:-//ChamberMaster//Event Calendar 2.0//EN
METHOD:PUBLISH
X-PUBLISHED-TTL:P3D
REFRESH-INTERVAL:P3D
CALSCALE:GREGORIAN
BEGIN:VEVENT
DTSTART:20100930T193000Z
DTEND:20100930T233000Z
X-MICROSOFT-CDO-ALLDAYEVENT:FALSE
SUMMARY:Basic Watercolor Techniques with Artist\, Nancy Lewis
DESCRIPTION:Nancy offers the opportunity to explore the inner artist in you at The Blue Pig Gallery. Each creative session will include experimental techniques by Nancy followed by working alone. Be sure to get your materials lists when you R.S.V.P. $15.00 per session\, 1:30 - 5:30 pm. Call 970-464-4819 to reserve your session.
X-ALT-DESC;FMTTYPE=text/html:Nancy offers the opportunity to explore the inner artist in you at The Blue Pig Gallery. Each creative session will include experimental techniques by Nancy followed by working alone. Be sure to get your materials lists when you R.S.V.P. $15.00 per session\, 1:30 - 5:30 pm. Call 970-464-4819 to reserve your session.\n<br>
LOCATION:The Blue Pig Gallery\, 119 W 3rd St\, Palisade
UID:e.562.293
SEQUENCE:3
DTSTAMP:20260419T184941Z
URL:http://palisade.mobileappview.com/events/details/basic-watercolor-techniques-with-artist-nancy-lewis-09-30-2010-293
END:VEVENT

END:VCALENDAR
