BEGIN:VCALENDAR
VERSION:2.0
PRODID:-//ChamberMaster//Event Calendar 2.0//EN
METHOD:PUBLISH
X-PUBLISHED-TTL:P3D
REFRESH-INTERVAL:P3D
CALSCALE:GREGORIAN
BEGIN:VEVENT
DTSTART:20090807T003000Z
DTEND:20090807T030000Z
X-MICROSOFT-CDO-ALLDAYEVENT:FALSE
SUMMARY:Basic Sommelier Service for Everybody
DESCRIPTION:Everyone is becoming savvy to the ways of proper wine service\, and there's no reason why you can't learn the tricks of the trade for use in your own home. Being properly trained for wine service achieves important key goals for any occasion :\n\n    * Friends & family are more likely to trust your expertise with preparing food\n    * It makes an evening ?special?\n    * It helps prevent problems that can arise from staff not understanding what to do about corked or oxidized wine\n\nAt the end of each workshop\, you will:\n\n    * Understand what makes a good corkscrew\n    * Offer advice if asked on a wine selection\n    * Present a bottle properly\n    * Execute the proper technique for cutting the bottle cap and removing the cork\n    * Execute the proper technique for opening sparkling wines\n    * Properly present the cork\n    * Properly place the bottle on the table\n    * Understand the proper pour amount for the customer and understand pour technique\n    * Understand how to deal with: a bad cork\, corked wine\, oxidized wine\, tartrate crystals or a customer simply not liking a wine\n    * Understand proper serving temperatures for different styles of wine\n\nWhen and Where\n\nThursday August 20th\, 2009\n6:30pm - 9:00pm\nThe Wine Country Inn\n777 Grande River Drive  \nPalisade\, Colorado 81526
X-ALT-DESC;FMTTYPE=text/html:Everyone is becoming savvy to the ways of proper wine service\, and there's no reason why you can't learn the tricks of the trade for use in your own home. Being properly trained for wine service achieves important key goals for any occasion :\n\n    * Friends & family are more likely to trust your expertise with preparing food\n    * It makes an evening ?special?\n    * It helps prevent problems that can arise from staff not understanding what to do about corked or oxidized wine\n\nAt the end of each workshop\, you will:\n\n    * Understand what makes a good corkscrew\n    * Offer advice if asked on a wine selection\n    * Present a bottle properly\n    * Execute the proper technique for cutting the bottle cap and removing the cork\n    * Execute the proper technique for opening sparkling wines\n    * Properly present the cork\n    * Properly place the bottle on the table\n    * Understand the proper pour amount for the customer and understand pour technique\n    * Understand how to deal with: a bad cork\, corked wine\, oxidized wine\, tartrate crystals or a customer simply not liking a wine\n    * Understand proper serving temperatures for different styles of wine\n\nWhen and Where\n\nThursday August 20th\, 2009\n6:30pm - 9:00pm\nThe Wine Country Inn\n777 Grande River Drive  \nPalisade\, Colorado 81526
LOCATION:The Wine Country Inn 777 Grande River Drive Palisade\, Colorado 81526
UID:e.562.67
SEQUENCE:3
DTSTAMP:20260422T155606Z
URL:http://palisade.mobileappview.com/events/details/basic-sommelier-service-for-everybody-08-06-2009-67
END:VEVENT

END:VCALENDAR
