BEGIN:VCALENDAR
VERSION:2.0
PRODID:-//ChamberMaster//Event Calendar 2.0//EN
METHOD:PUBLISH
X-PUBLISHED-TTL:P3D
REFRESH-INTERVAL:P3D
CALSCALE:GREGORIAN
BEGIN:VEVENT
DTSTART:20100514T160000Z
DTEND:20100515T000000Z
X-MICROSOFT-CDO-ALLDAYEVENT:FALSE
SUMMARY:Animal Creations with Artist\, Kay Crane
DESCRIPTION:Kay's animals show a whimsical side with use of bright\, bold color and relaxed brushwork. Bring a picture of your favorite animal or your pet to either work with either oil\, acrylic or pastel. Bring reference materials and medium you are most comfortable with. Cost is $15 per 4 hour session. Call The Blue Pig Gallery\, 464-4819 to register for the 10am-2pm or 2pm-6pm session. For more information visit:  www.thebluepiggallery.com.
X-ALT-DESC;FMTTYPE=text/html:Kay's animals show a whimsical side with use of bright\, bold color and relaxed brushwork. Bring a picture of your favorite animal or your pet to either work with either oil\, acrylic or pastel. Bring reference materials and medium you are most comfortable with. Cost is $15 per 4 hour session. Call The Blue Pig Gallery\, 464-4819 to register for the 10am-2pm or 2pm-6pm session. For more information visit:  www.thebluepiggallery.com.\n<br>
LOCATION:The Blue Pig Gallery\, 119 W 3rd St\, Palisade
UID:e.562.190
SEQUENCE:3
DTSTAMP:20260420T005829Z
URL:http://palisade.mobileappview.com/events/details/animal-creations-with-artist-kay-crane-05-14-2010-190
END:VEVENT

END:VCALENDAR
