BEGIN:VCALENDAR
VERSION:2.0
PRODID:-//ChamberMaster//Event Calendar 2.0//EN
METHOD:PUBLISH
X-PUBLISHED-TTL:P3D
REFRESH-INTERVAL:P3D
CALSCALE:GREGORIAN
BEGIN:VEVENT
DTSTART:20100612T190000Z
DTEND:20100612T220000Z
X-MICROSOFT-CDO-ALLDAYEVENT:FALSE
SUMMARY:An Expressive Arts Journey Workshop
DESCRIPTION:?An Expressive Arts Journey? provides a glimpse into the creative process of self-exploration. A variety of art-making activities will be facilitated by Connie Robbins-Brady during this 3-hour journey. No previous art experience is necessary. All materials are supplied. Connie Robbins-Brady is a licensed professional counselor and an arts coordinator with more than 20 years of experience working with individuals and groups toward personal growth. Class is $30\, to register email: crobbins_brady@yahoo.com
X-ALT-DESC;FMTTYPE=text/html:?An Expressive Arts Journey? provides a glimpse into the creative process of self-exploration. A variety of art-making activities will be facilitated by Connie Robbins-Brady during this 3-hour journey. No previous art experience is necessary. All materials are supplied. Connie Robbins-Brady is a licensed professional counselor and an arts coordinator with more than 20 years of experience working with individuals and groups toward personal growth. Class is $30\, to register email: crobbins_brady@yahoo.com 
LOCATION:The Blue Pig Gallery\, 119 W 3rd St\, Palisade
UID:e.562.230
SEQUENCE:3
DTSTAMP:20260419T231440Z
URL:http://palisade.mobileappview.com/events/details/an-expressive-arts-journey-workshop-06-12-2010-230
END:VEVENT

END:VCALENDAR
