BEGIN:VCALENDAR
VERSION:2.0
PRODID:-//ChamberMaster//Event Calendar 2.0//EN
METHOD:PUBLISH
X-PUBLISHED-TTL:P3D
REFRESH-INTERVAL:P3D
CALSCALE:GREGORIAN
BEGIN:VEVENT
DTSTART:20100411T190000Z
DTEND:20100411T220000Z
X-MICROSOFT-CDO-ALLDAYEVENT:FALSE
SUMMARY:Altered Book Workshop with guest artist\, Judith Cassel-Mamet
DESCRIPTION:For artists who love books\, love the collage process and love to collect ephemera\, this workshop combines all three. Participants will receive a discarded book to alter into a fabulous piece of art. Session is $30 and is from 1-4pm. You must contact Judith at jcmamet@comcast.net or call 303-778-1651 to register.
X-ALT-DESC;FMTTYPE=text/html:For artists who love books\, love the collage process and love to collect ephemera\, this workshop combines all three. Participants will receive a discarded book to alter into a fabulous piece of art. Session is $30 and is from 1-4pm. You must contact Judith at jcmamet@comcast.net or call 303-778-1651 to register.
LOCATION:The Blue Pig Gallery\, 119 W 3rd St\, Palisade
UID:e.562.180
SEQUENCE:3
DTSTAMP:20260420T023709Z
URL:http://palisade.mobileappview.com/events/details/altered-book-workshop-with-guest-artist-judith-cassel-mamet-04-11-2010-180
END:VEVENT

END:VCALENDAR
