BEGIN:VCALENDAR
VERSION:2.0
PRODID:-//ChamberMaster//Event Calendar 2.0//EN
METHOD:PUBLISH
X-PUBLISHED-TTL:P3D
REFRESH-INTERVAL:P3D
CALSCALE:GREGORIAN
BEGIN:VEVENT
DTSTART:20110121T190000Z
DTEND:20110121T230000Z
X-MICROSOFT-CDO-ALLDAYEVENT:FALSE
SUMMARY:Acrylic Valentine Whimsical Hearts
DESCRIPTION:Join artist\, Kay Crane at the Blue Pig Gallery\, in making whimsical mini heart paintings or cards with the use of bright\, bold color. Participants can choose to make 2 1/2 x 3 1/2\, 5 x 7\, or 8 x 10 pieces to frame or cards to give away to someone special. $15\, Call 970-464-4819 to reserve your spot.
X-ALT-DESC;FMTTYPE=text/html:Join artist\, Kay Crane at the Blue Pig Gallery\, in making whimsical mini heart paintings or cards with the use of bright\, bold color. Participants can choose to make 2 1/2 x 3 1/2\, 5 x 7\, or 8 x 10 pieces to frame or cards to give away to someone special. $15\, Call 970-464-4819 to reserve your spot.
LOCATION:The Blue Pig Gallery\, 119 W 3rd St\, Palisade
UID:e.562.330
SEQUENCE:3
DTSTAMP:20260419T122724Z
URL:http://palisade.mobileappview.com/events/details/acrylic-valentine-whimsical-hearts-01-21-2011-330
END:VEVENT

END:VCALENDAR
