BEGIN:VCALENDAR
VERSION:2.0
PRODID:-//ChamberMaster//Event Calendar 2.0//EN
METHOD:PUBLISH
X-PUBLISHED-TTL:P3D
REFRESH-INTERVAL:P3D
CALSCALE:GREGORIAN
BEGIN:VEVENT
DTSTART;VALUE=DATE:20100612
DTEND;VALUE=DATE:20100614
TRANSP:TRANSPARENT
X-MICROSOFT-CDO-ALLDAYEVENT:TRUE
SUMMARY:5th Annual Palisade Parade of Roses
DESCRIPTION:Learn why roses and wineries and their vineyards go hand-in-hand.  Take a tour of Palisade area rose gardens.  Winning entries are announced at a Sunday Brunch.  Sponsored by Varaison Vineyard & Winery.  Public Display\, Tour of Roses\, Rose Workshops\,at the Variason Pavillion and Gazeeboo. Sunday Brunch at Varaison VIneyards & Winery11am - 1 pm   -  $35 per personRSVP 970-464-4928
X-ALT-DESC;FMTTYPE=text/html:<div>Learn why roses and wineries and their vineyards go hand-in-hand.&nbsp\; Take a tour of Palisade area rose gardens.&nbsp\; Winning entries are announced at a Sunday Brunch.&nbsp\; Sponsored by Varaison Vineyard &amp\;&nbsp\;Winery.</div><div>&nbsp\;</div><div>&nbsp\;</div><div style="text-align: center">Public Display\, Tour of Roses\, Rose Workshops\,</div><div style="text-align: center">at the Variason Pavillion and Gazeeboo.</div><div style="text-align: center">&nbsp\;</div><div style="text-align: center">Sunday Brunch at Varaison VIneyards &amp\;&nbsp\;Winery</div><div style="text-align: center">11am - 1 pm&nbsp\;&nbsp\; -&nbsp\; $35 per person</div><div style="text-align: center">RSVP 970-464-4928</div>
LOCATION:405 W. First St.Palisade\, CO 81526
UID:e.562.195
SEQUENCE:3
DTSTAMP:20260419T232050Z
URL:http://palisade.mobileappview.com/events/details/5th-annual-palisade-parade-of-roses-06-12-2010-195
END:VEVENT

END:VCALENDAR
