BEGIN:VCALENDAR
VERSION:2.0
PRODID:-//ChamberMaster//Event Calendar 2.0//EN
METHOD:PUBLISH
X-PUBLISHED-TTL:P3D
REFRESH-INTERVAL:P3D
CALSCALE:GREGORIAN
BEGIN:VEVENT
DTSTART;VALUE=DATE:20100819
DTEND;VALUE=DATE:20100823
TRANSP:TRANSPARENT
X-MICROSOFT-CDO-ALLDAYEVENT:TRUE
SUMMARY:42nd Annual Palisade Peach Festival
DESCRIPTION:42nd Annual Palisade Peach Festival:  4 day event celebrates the time-honored tradition of Palisade Peaches.  Thursday starts with the Ice Cream Social & Street Dance.  Friday features agritours\, historic walking tours of down town Palisade\, Peach Festival @ Riverbend Park\, Peach Cuisine with Colorado Chefs\, and "Feast in the Fields".  Saturday's activities include Lions' Club Pancake Breakfast\, Peach Fest 5-miler\, Recipe Contest & Sample Sales\, Peach Festival Parade\, Peach Festival @ Riverbend Park\, Peach Cuisine with Colorado Chefs\, Peach eating contest and "Feast in the Fields".  Sunday wraps up wiht the Palidsade Sunday Market\, historic walking tours of down town Palisade and Agritours.
X-ALT-DESC;FMTTYPE=text/html:<div>42nd Annual Palisade Peach Festival:&nbsp\; 4 day event celebrates the time-honored tradition of Palisade Peaches.&nbsp\; Thursday starts with the Ice Cream Social&nbsp\;&amp\;&nbsp\;Street Dance.&nbsp\; Friday features agritours\, historic walking tours of down town Palisade\, Peach Festival @&nbsp\;Riverbend Park\, Peach Cuisine with Colorado Chefs\, and &quot\;Feast in the Fields&quot\;.&nbsp\; Saturday's activities include Lions' Club Pancake Breakfast\, Peach Fest 5-miler\, Recipe Contest&nbsp\;&amp\; Sample Sales\, Peach Festival Parade\, Peach Festival @&nbsp\;Riverbend Park\, Peach Cuisine with Colorado Chefs\, Peach eating contest and &quot\;Feast in the Fields&quot\;.&nbsp\; Sunday wraps up wiht the Palidsade Sunday Market\, historic walking tours of down town Palisade and Agritours.</div>
LOCATION:
UID:e.562.215
SEQUENCE:3
DTSTAMP:20260419T203152Z
URL:http://palisade.mobileappview.com/events/details/42nd-annual-palisade-peach-festival-08-19-2010-215
END:VEVENT

END:VCALENDAR
